BEGIN:VCALENDAR
VERSION:2.0
PRODID:-//Hamborger Schietgäng - ECPv6.15.20//NONSGML v1.0//EN
CALSCALE:GREGORIAN
METHOD:PUBLISH
X-WR-CALNAME:Hamborger Schietgäng
X-ORIGINAL-URL:https://hamborger-schietgaeng.de
X-WR-CALDESC:Veranstaltungen für Hamborger Schietgäng
REFRESH-INTERVAL;VALUE=DURATION:PT1H
X-Robots-Tag:noindex
X-PUBLISHED-TTL:PT1H
BEGIN:VTIMEZONE
TZID:Europe/Berlin
BEGIN:DAYLIGHT
TZOFFSETFROM:+0100
TZOFFSETTO:+0200
TZNAME:CEST
DTSTART:20250330T010000
END:DAYLIGHT
BEGIN:STANDARD
TZOFFSETFROM:+0200
TZOFFSETTO:+0100
TZNAME:CET
DTSTART:20251026T010000
END:STANDARD
BEGIN:DAYLIGHT
TZOFFSETFROM:+0100
TZOFFSETTO:+0200
TZNAME:CEST
DTSTART:20260329T010000
END:DAYLIGHT
BEGIN:STANDARD
TZOFFSETFROM:+0200
TZOFFSETTO:+0100
TZNAME:CET
DTSTART:20261025T010000
END:STANDARD
BEGIN:DAYLIGHT
TZOFFSETFROM:+0100
TZOFFSETTO:+0200
TZNAME:CEST
DTSTART:20270328T010000
END:DAYLIGHT
BEGIN:STANDARD
TZOFFSETFROM:+0200
TZOFFSETTO:+0100
TZNAME:CET
DTSTART:20271031T010000
END:STANDARD
END:VTIMEZONE
BEGIN:VEVENT
DTSTART;TZID=Europe/Berlin:20260508T090000
DTEND;TZID=Europe/Berlin:20260508T173000
DTSTAMP:20260420T054207
CREATED:20251126T171134Z
LAST-MODIFIED:20251126T171134Z
UID:70361-1778230800-1778261400@hamborger-schietgaeng.de
SUMMARY:CAP SAN DIEGO Hafengeburtstag Einlaufparade
DESCRIPTION:Ein einmaliges Erlebnis mit bestem Blick: \nmehr Hafengeburtstag geht nicht!
URL:https://hamborger-schietgaeng.de/?tribe_events=cap-san-diego-hafengeburtstag-einlaufparade
LOCATION:Hamburg
END:VEVENT
BEGIN:VEVENT
DTSTART;TZID=Europe/Berlin:20260703T143000
DTEND;TZID=Europe/Berlin:20260703T163000
DTSTAMP:20260420T054207
CREATED:20260403T195409Z
LAST-MODIFIED:20260403T195409Z
UID:70378-1783089000-1783096200@hamborger-schietgaeng.de
SUMMARY:Pflegen & Wohnen Farmsen
DESCRIPTION:Wir freuen uns sehr erneut zum SOMMERFEST PFLEGEN & WOHNEN aufzuspielen und zum Gelingen dieser tollen Traditionsveranstaltung beitragen zu dürfen. Besucher sind willkommen!
URL:https://hamborger-schietgaeng.de/?tribe_events=pflegen-wohnen-farmsen
LOCATION:Pflegen & Wohnen\, August-Krogmann-Str. 100\, 22159 Hamburg\, Hamburg\, Germany
END:VEVENT
BEGIN:VEVENT
DTSTART;TZID=Europe/Berlin:20260705T150000
DTEND;TZID=Europe/Berlin:20260705T173000
DTSTAMP:20260420T054207
CREATED:20251114T181816Z
LAST-MODIFIED:20251126T172930Z
UID:70351-1783263600-1783272600@hamborger-schietgaeng.de
SUMMARY:Konzert auf der CAP SAN DIEGO
DESCRIPTION:Verpassen Sie dieses\, mit allen Weltmeer-Wassern gewaschene Ensemble nicht\, am Sonntag\, den 05. Juli 2026 um 15:00 Uhr (ab 13:45 Uhr können Sie ohne Aufpreis an Bord gehen\, um das Schiff & das Museum zu besichtigen!) \nKartenpreis: 24.- € im Vor-Verkauf (Tageskasse 28\,50 €) \nAnmeldung\, Karten & Infos bei: Andreas Werling \nTelefon: 040-693 76 76 / Mail: awe-kultour@gmx.de \nKonto: Commerzbank IBAN DE69 2008 0000 0373 8371 00
URL:https://hamborger-schietgaeng.de/?tribe_events=cap-san-diego-konzert-2
LOCATION:Hamburg
END:VEVENT
BEGIN:VEVENT
DTSTART;TZID=Europe/Berlin:20260719T080000
DTEND;TZID=Europe/Berlin:20260719T180000
DTSTAMP:20260420T054207
CREATED:20251126T171638Z
LAST-MODIFIED:20251126T171638Z
UID:70363-1784448000-1784484000@hamborger-schietgaeng.de
SUMMARY:CAP SAN DIEGO  Sommer-Elbtörn CUX – HAM
DESCRIPTION:Die Elbe rauf mit bester maritimer Musik der HAMBORGER SCHIETGÄNG!
URL:https://hamborger-schietgaeng.de/?tribe_events=cap-san-diego-sommer-elbtoern-cux-ham
LOCATION:Hamburg
END:VEVENT
BEGIN:VEVENT
DTSTART;TZID=Europe/Berlin:20260815T090000
DTEND;TZID=Europe/Berlin:20260815T150000
DTSTAMP:20260420T054207
CREATED:20251126T172025Z
LAST-MODIFIED:20260403T195703Z
UID:70365-1786784400-1786806000@hamborger-schietgaeng.de
SUMMARY:CAP SAN DIEGO Sommer Brunch-Fahrt
DESCRIPTION:Einmal Elbe runter und wieder rauf – und alle sind gut drauf!
URL:https://hamborger-schietgaeng.de/?tribe_events=cap-san-diego-sommer-brunch-fahrt
LOCATION:Hamburg
END:VEVENT
END:VCALENDAR